BEGIN:VCALENDAR
VERSION:2.0
PRODID:-//The Easton - ECPv6.15.20//NONSGML v1.0//EN
CALSCALE:GREGORIAN
METHOD:PUBLISH
X-WR-CALNAME:The Easton
X-ORIGINAL-URL:https://www.theeastonftl.com
X-WR-CALDESC:Events for The Easton
REFRESH-INTERVAL;VALUE=DURATION:PT1H
X-Robots-Tag:noindex
X-PUBLISHED-TTL:PT1H
BEGIN:VTIMEZONE
TZID:America/New_York
BEGIN:DAYLIGHT
TZOFFSETFROM:-0500
TZOFFSETTO:-0400
TZNAME:EDT
DTSTART:20250309T070000
END:DAYLIGHT
BEGIN:STANDARD
TZOFFSETFROM:-0400
TZOFFSETTO:-0500
TZNAME:EST
DTSTART:20251102T060000
END:STANDARD
BEGIN:DAYLIGHT
TZOFFSETFROM:-0500
TZOFFSETTO:-0400
TZNAME:EDT
DTSTART:20260308T070000
END:DAYLIGHT
BEGIN:STANDARD
TZOFFSETFROM:-0400
TZOFFSETTO:-0500
TZNAME:EST
DTSTART:20261101T060000
END:STANDARD
BEGIN:DAYLIGHT
TZOFFSETFROM:-0500
TZOFFSETTO:-0400
TZNAME:EDT
DTSTART:20270314T070000
END:DAYLIGHT
BEGIN:STANDARD
TZOFFSETFROM:-0400
TZOFFSETTO:-0500
TZNAME:EST
DTSTART:20271107T060000
END:STANDARD
END:VTIMEZONE
BEGIN:VEVENT
DTSTART;TZID=America/New_York:20260328T210000
DTEND;TZID=America/New_York:20260329T010000
DTSTAMP:20260420T105610
CREATED:20260305T145532Z
LAST-MODIFIED:20260305T145532Z
UID:5568-1774731600-1774746000@www.theeastonftl.com
SUMMARY:Cars Under the Stars
DESCRIPTION:Experience the epitome of luxury and automotive prowess at Cars Under Stars. This extraordinary gathering brings together the most influential socialites and industry movers in a glamorous rooftop venue. As you arrive on the lower level\, prepare to be captivated by an impressive display of supercars—masterpieces of design\, power\, and innovation. However\, it is the rooftop itself that takes center stage\, offering a breathtaking panoramic view of the city skyline. Here\, amidst a sophisticated and opulent atmosphere\, connections are forged\, and groundbreaking collaborations begin to take shape. Indulge in culinary delights\, sip on expertly crafted libations\, and enjoy the mood for an enchanting evening. \nCars Under Stars is not just an ordinary luxury gathering; it is an immersive experience that celebrates the pursuit of excellence. Join us as we redefine the boundaries of South Florida’s Social Scene and create memories that will be whispered among the elite for years to come
URL:https://www.theeastonftl.com/eventscalendar/cars-under-the-stars/
LOCATION:The Easton Rooftop
END:VEVENT
END:VCALENDAR