BEGIN:VCALENDAR
VERSION:2.0
PRODID:-//The Easton - ECPv6.15.20//NONSGML v1.0//EN
CALSCALE:GREGORIAN
METHOD:PUBLISH
X-ORIGINAL-URL:https://www.theeastonftl.com
X-WR-CALDESC:Events for The Easton
REFRESH-INTERVAL;VALUE=DURATION:PT1H
X-Robots-Tag:noindex
X-PUBLISHED-TTL:PT1H
BEGIN:VTIMEZONE
TZID:America/New_York
BEGIN:DAYLIGHT
TZOFFSETFROM:-0500
TZOFFSETTO:-0400
TZNAME:EDT
DTSTART:20250309T070000
END:DAYLIGHT
BEGIN:STANDARD
TZOFFSETFROM:-0400
TZOFFSETTO:-0500
TZNAME:EST
DTSTART:20251102T060000
END:STANDARD
BEGIN:DAYLIGHT
TZOFFSETFROM:-0500
TZOFFSETTO:-0400
TZNAME:EDT
DTSTART:20260308T070000
END:DAYLIGHT
BEGIN:STANDARD
TZOFFSETFROM:-0400
TZOFFSETTO:-0500
TZNAME:EST
DTSTART:20261101T060000
END:STANDARD
BEGIN:DAYLIGHT
TZOFFSETFROM:-0500
TZOFFSETTO:-0400
TZNAME:EDT
DTSTART:20270314T070000
END:DAYLIGHT
BEGIN:STANDARD
TZOFFSETFROM:-0400
TZOFFSETTO:-0500
TZNAME:EST
DTSTART:20271107T060000
END:STANDARD
END:VTIMEZONE
BEGIN:VEVENT
DTSTART;TZID=America/New_York:20260409T180000
DTEND;TZID=America/New_York:20260409T210000
DTSTAMP:20260420T103402
CREATED:20260403T150202Z
LAST-MODIFIED:20260409T165423Z
UID:5639-1775757600-1775768400@www.theeastonftl.com
SUMMARY:Networking Event Fort Lauderdale | Biz to Biz
DESCRIPTION:Join a premier networking event Fort Lauderdale professionals love at The Easton Rooftop. Connect with local professionals\, enjoy skyline views\, and grow your business network.
URL:https://www.theeastonftl.com/eventscalendar/fort-lauderdale-networking-event/
LOCATION:The Easton Rooftop
END:VEVENT
END:VCALENDAR