BEGIN:VCALENDAR
VERSION:2.0
PRODID:-//The Easton - ECPv6.15.20//NONSGML v1.0//EN
CALSCALE:GREGORIAN
METHOD:PUBLISH
X-WR-CALNAME:The Easton
X-ORIGINAL-URL:https://www.theeastonftl.com
X-WR-CALDESC:Events for The Easton
REFRESH-INTERVAL;VALUE=DURATION:PT1H
X-Robots-Tag:noindex
X-PUBLISHED-TTL:PT1H
BEGIN:VTIMEZONE
TZID:America/New_York
BEGIN:DAYLIGHT
TZOFFSETFROM:-0500
TZOFFSETTO:-0400
TZNAME:EDT
DTSTART:20250309T070000
END:DAYLIGHT
BEGIN:STANDARD
TZOFFSETFROM:-0400
TZOFFSETTO:-0500
TZNAME:EST
DTSTART:20251102T060000
END:STANDARD
BEGIN:DAYLIGHT
TZOFFSETFROM:-0500
TZOFFSETTO:-0400
TZNAME:EDT
DTSTART:20260308T070000
END:DAYLIGHT
BEGIN:STANDARD
TZOFFSETFROM:-0400
TZOFFSETTO:-0500
TZNAME:EST
DTSTART:20261101T060000
END:STANDARD
BEGIN:DAYLIGHT
TZOFFSETFROM:-0500
TZOFFSETTO:-0400
TZNAME:EDT
DTSTART:20270314T070000
END:DAYLIGHT
BEGIN:STANDARD
TZOFFSETFROM:-0400
TZOFFSETTO:-0500
TZNAME:EST
DTSTART:20271107T060000
END:STANDARD
END:VTIMEZONE
BEGIN:VEVENT
DTSTART;TZID=America/New_York:20260411T130000
DTEND;TZID=America/New_York:20260411T170000
DTSTAMP:20260420T102920
CREATED:20260403T135628Z
LAST-MODIFIED:20260409T161346Z
UID:5632-1775912400-1775926800@www.theeastonftl.com
SUMMARY:Splash Party
DESCRIPTION:Elevate your weekend with a rooftop pool party in downtown Fort Lauderdale. 🫧𓇼Enjoy music from top DJs with weekly themes! \nSip and swim at our Fort Lauderdale rooftop pool party every weekend! \nFeaturing live poolside DJs\, drink specials\, a poolside bites menu\, and various floaties. Pool towels are provided. \nRSVP NECESSARY! \nMake a daybed or cabana rental reservation!
URL:https://www.theeastonftl.com/eventscalendar/splash-party-2/
LOCATION:The Easton Rooftop
END:VEVENT
BEGIN:VEVENT
DTSTART;TZID=America/New_York:20260411T180000
DTEND;TZID=America/New_York:20260411T220000
DTSTAMP:20260420T102920
CREATED:20260403T153929Z
LAST-MODIFIED:20260403T153929Z
UID:5644-1775930400-1775944800@www.theeastonftl.com
SUMMARY:Private sorority party
DESCRIPTION:
URL:https://www.theeastonftl.com/eventscalendar/private-sorority-party/
LOCATION:The Easton Rooftop
END:VEVENT
END:VCALENDAR