BEGIN:VCALENDAR
VERSION:2.0
PRODID:-//The Easton - ECPv6.15.20//NONSGML v1.0//EN
CALSCALE:GREGORIAN
METHOD:PUBLISH
X-ORIGINAL-URL:https://www.theeastonftl.com
X-WR-CALDESC:Events for The Easton
REFRESH-INTERVAL;VALUE=DURATION:PT1H
X-Robots-Tag:noindex
X-PUBLISHED-TTL:PT1H
BEGIN:VTIMEZONE
TZID:America/New_York
BEGIN:DAYLIGHT
TZOFFSETFROM:-0500
TZOFFSETTO:-0400
TZNAME:EDT
DTSTART:20250309T070000
END:DAYLIGHT
BEGIN:STANDARD
TZOFFSETFROM:-0400
TZOFFSETTO:-0500
TZNAME:EST
DTSTART:20251102T060000
END:STANDARD
BEGIN:DAYLIGHT
TZOFFSETFROM:-0500
TZOFFSETTO:-0400
TZNAME:EDT
DTSTART:20260308T070000
END:DAYLIGHT
BEGIN:STANDARD
TZOFFSETFROM:-0400
TZOFFSETTO:-0500
TZNAME:EST
DTSTART:20261101T060000
END:STANDARD
BEGIN:DAYLIGHT
TZOFFSETFROM:-0500
TZOFFSETTO:-0400
TZNAME:EDT
DTSTART:20270314T070000
END:DAYLIGHT
BEGIN:STANDARD
TZOFFSETFROM:-0400
TZOFFSETTO:-0500
TZNAME:EST
DTSTART:20271107T060000
END:STANDARD
END:VTIMEZONE
BEGIN:VEVENT
DTSTART;TZID=America/New_York:20260422T180000
DTEND;TZID=America/New_York:20260422T210000
DTSTAMP:20260420T103213
CREATED:20260403T151038Z
LAST-MODIFIED:20260403T151038Z
UID:5642-1776880800-1776891600@www.theeastonftl.com
SUMMARY:Networking Event | Secure your future global
DESCRIPTION:Join a networking event Fort Lauderdale professionals trust at Secure Your Future Global at The Easton Rooftop. Connect\, collaborate\, and grow your professional network.
URL:https://www.theeastonftl.com/eventscalendar/fort-lauderdale-networking-event-secure-future/
LOCATION:The Easton Rooftop
END:VEVENT
BEGIN:VEVENT
DTSTART;TZID=America/New_York:20260422T183000
DTEND;TZID=America/New_York:20260422T193000
DTSTAMP:20260420T103213
CREATED:20260409T132339Z
LAST-MODIFIED:20260409T201535Z
UID:5657-1776882600-1776886200@www.theeastonftl.com
SUMMARY:The Easton Mixology Class
DESCRIPTION:Shake\, stir\, and sip like a pro 🍹✨ \nJoin us for The Easton Mixology Class\, an interactive rooftop experience where you’ll learn to craft cocktails while enjoying unbeatable views and vibes in Fort Lauderdale 🌇 \nWhat to expect:• Hands-on mojito mixology session 🍃🍸• Learn professional bartending techniques 👨‍🍳• Step-by-step cocktail recipes to recreate at home 📖• Fun\, social atmosphere on the rooftop 🎶• Perfect for date night\, friends\, or something new 🤝 \nCome for the class\, stay for the vibes—and leave with skills that impress 🍹✨
URL:https://www.theeastonftl.com/eventscalendar/rooftop-bartending-class-fort-lauderdale/
LOCATION:The Easton Rooftop
END:VEVENT
END:VCALENDAR